Workbook

Sheet Prices
B2: Dataset | C2: Geo Scope | D2: per LGA | E2: per Title x1000 | F2: Entire Dataset
B3: Low and Mid Rise + Transport Oriented Development | C3: Within LMR+TOD areas | D3: 149.9 | F3: 1499
B4: LMR + TOD + CDC Eligilility | C4: Within LMR+TOD areas | D4: 399.9 | F4: 3999
B5: CDC Eligibility for Low Rise Housing Diversity Code | C5: Statewide (R1, R2, R3, R4, RU5) | E5: 29.9 | F5: 19990
B6: CDC Eligibility for Pattern Book Code | C6: Statewide (R1, R2, R3) | E6: 19.9 | F6: 14990
B7: CDC Eligibility for LRHDC + Pattern Book | C7: Statewide (R1, R2, R3, R4, RU5) | E7: 39.9 | F7: 29990
B10: All prices are exGST.
B11: Prices current as at 2025-09-01.

Sheet Calculator
C2: LMR+TOD | D2: CDC LRHDC | E2: CDC Pattern | F2: CDC LRHDC+Pattern | H2: INSTRUCTIONS:
B3: Order Total (exGST) | C3: =MIN(SUM(H7:H102)+SUM(C7:C102),Prices!F3) -> 0 | D3: =MIN(SUM(I7:I102)+SUM(D7:D102),Prices!F5) -> 0 | E3: =MIN(SUM(J7:J102)+SUM(E7:E102),Prices!F6) -> 0 | F3: =MIN(SUM(K7:K102)+SUM(F7:F102),Prices!F7) -> 0 | H3: Enter any combination of LGAs and/or suburbs to see the total price. In the yellow cells, type or choose from the dropdown list.
H4: Do not edit any cells other than yellow.
B6: LGA Name | C6: LMR+TOD | D6: CDC LRHDC | E6: CDC Pattern | F6: CDC LRHDC+Pattern | H6: Suburb Name | I6: CDC LRHDC | J6: CDC Pattern | K6: CDC LRHDC+Pattern
C7: =IFERROR(INDEX('Per LGA'!D:D,MATCH($B7,'Per LGA'!$A:$A,0)),"") | D7: =IFERROR(INDEX('Per LGA'!E:E,MATCH($B7,'Per LGA'!$A:$A,0)),"") | E7: =IFERROR(INDEX('Per LGA'!F:F,MATCH($B7,'Per LGA'!$A:$A,0)),"") | F7: =IFERROR(INDEX('Per LGA'!G:G,MATCH($B7,'Per LGA'!$A:$A,0)),"") | I7: =IFERROR(INDEX('Per Suburb'!D:D,MATCH($H7,'Per Suburb'!$A:$A,0)),"") | J7: =IFERROR(INDEX('Per Suburb'!E:E,MATCH($H7,'Per Suburb'!$A:$A,0)),"") | K7: =IFERROR(INDEX('Per Suburb'!F:F,MATCH($H7,'Per Suburb'!$A:$A,0)),"")
C8: =IFERROR(INDEX('Per LGA'!D:D,MATCH($B8,'Per LGA'!$A:$A,0)),"") | D8: =IFERROR(INDEX('Per LGA'!E:E,MATCH($B8,'Per LGA'!$A:$A,0)),"") | E8: =IFERROR(INDEX('Per LGA'!F:F,MATCH($B8,'Per LGA'!$A:$A,0)),"") | F8: =IFERROR(INDEX('Per LGA'!G:G,MATCH($B8,'Per LGA'!$A:$A,0)),"") | I8: =IFERROR(INDEX('Per Suburb'!D:D,MATCH($H8,'Per Suburb'!$A:$A,0)),"") | J8: =IFERROR(INDEX('Per Suburb'!E:E,MATCH($H8,'Per Suburb'!$A:$A,0)),"") | K8: =IFERROR(INDEX('Per Suburb'!F:F,MATCH($H8,'Per Suburb'!$A:$A,0)),"")
C9: =IFERROR(INDEX('Per LGA'!D:D,MATCH($B9,'Per LGA'!$A:$A,0)),"") | D9: =IFERROR(INDEX('Per LGA'!E:E,MATCH($B9,'Per LGA'!$A:$A,0)),"") | E9: =IFERROR(INDEX('Per LGA'!F:F,MATCH($B9,'Per LGA'!$A:$A,0)),"") | F9: =IFERROR(INDEX('Per LGA'!G:G,MATCH($B9,'Per LGA'!$A:$A,0)),"") | I9: =IFERROR(INDEX('Per Suburb'!D:D,MATCH($H9,'Per Suburb'!$A:$A,0)),"") | J9: =IFERROR(INDEX('Per Suburb'!E:E,MATCH($H9,'Per Suburb'!$A:$A,0)),"") | K9: =IFERROR(INDEX('Per Suburb'!F:F,MATCH($H9,'Per Suburb'!$A:$A,0)),"")
C10: =IFERROR(INDEX('Per LGA'!D:D,MATCH($B10,'Per LGA'!$A:$A,0)),"") | D10: =IFERROR(INDEX('Per LGA'!E:E,MATCH($B10,'Per LGA'!$A:$A,0)),"") | E10: =IFERROR(INDEX('Per LGA'!F:F,MATCH($B10,'Per LGA'!$A:$A,0)),"") | F10: =IFERROR(INDEX('Per LGA'!G:G,MATCH($B10,'Per LGA'!$A:$A,0)),"") | I10: =IFERROR(INDEX('Per Suburb'!D:D,MATCH($H10,'Per Suburb'!$A:$A,0)),"") | J10: =IFERROR(INDEX('Per Suburb'!E:E,MATCH($H10,'Per Suburb'!$A:$A,0)),"") | K10: =IFERROR(INDEX('Per Suburb'!F:F,MATCH($H10,'Per Suburb'!$A:$A,0)),"")
C11: =IFERROR(INDEX('Per LGA'!D:D,MATCH($B11,'Per LGA'!$A:$A,0)),"") | D11: =IFERROR(INDEX('Per LGA'!E:E,MATCH($B11,'Per LGA'!$A:$A,0)),"") | E11: =IFERROR(INDEX('Per LGA'!F:F,MATCH($B11,'Per LGA'!$A:$A,0)),"") | F11: =IFERROR(INDEX('Per LGA'!G:G,MATCH($B11,'Per LGA'!$A:$A,0)),"") | I11: =IFERROR(INDEX('Per Suburb'!D:D,MATCH($H11,'Per Suburb'!$A:$A,0)),"") | J11: =IFERROR(INDEX('Per Suburb'!E:E,MATCH($H11,'Per Suburb'!$A:$A,0)),"") | K11: =IFERROR(INDEX('Per Suburb'!F:F,MATCH($H11,'Per Suburb'!$A:$A,0)),"")
C12: =IFERROR(INDEX('Per LGA'!D:D,MATCH($B12,'Per LGA'!$A:$A,0)),"") | D12: =IFERROR(INDEX('Per LGA'!E:E,MATCH($B12,'Per LGA'!$A:$A,0)),"") | E12: =IFERROR(INDEX('Per LGA'!F:F,MATCH($B12,'Per LGA'!$A:$A,0)),"") | F12: =IFERROR(INDEX('Per LGA'!G:G,MATCH($B12,'Per LGA'!$A:$A,0)),"") | I12: =IFERROR(INDEX('Per Suburb'!D:D,MATCH($H12,'Per Suburb'!$A:$A,0)),"") | J12: =IFERROR(INDEX('Per Suburb'!E:E,MATCH($H12,'Per Suburb'!$A:$A,0)),"") | K12: =IFERROR(INDEX('Per Suburb'!F:F,MATCH($H12,'Per Suburb'!$A:$A,0)),"")
C13: =IFERROR(INDEX('Per LGA'!D:D,MATCH($B13,'Per LGA'!$A:$A,0)),"") | D13: =IFERROR(INDEX('Per LGA'!E:E,MATCH($B13,'Per LGA'!$A:$A,0)),"") | E13: =IFERROR(INDEX('Per LGA'!F:F,MATCH($B13,'Per LGA'!$A:$A,0)),"") | F13: =IFERROR(INDEX('Per LGA'!G:G,MATCH($B13,'Per LGA'!$A:$A,0)),"") | I13: =IFERROR(INDEX('Per Suburb'!D:D,MATCH($H13,'Per Suburb'!$A:$A,0)),"") | J13: =IFERROR(INDEX('Per Suburb'!E:E,MATCH($H13,'Per Suburb'!$A:$A,0)),"") | K13: =IFERROR(INDEX('Per Suburb'!F:F,MATCH($H13,'Per Suburb'!$A:$A,0)),"")
C14: =IFERROR(INDEX('Per LGA'!D:D,MATCH($B14,'Per LGA'!$A:$A,0)),"") | D14: =IFERROR(INDEX('Per LGA'!E:E,MATCH($B14,'Per LGA'!$A:$A,0)),"") | E14: =IFERROR(INDEX('Per LGA'!F:F,MATCH($B14,'Per LGA'!$A:$A,0)),"") | F14: =IFERROR(INDEX('Per LGA'!G:G,MATCH($B14,'Per LGA'!$A:$A,0)),"") | I14: =IFERROR(INDEX('Per Suburb'!D:D,MATCH($H14,'Per Suburb'!$A:$A,0)),"") | J14: =IFERROR(INDEX('Per Suburb'!E:E,MATCH($H14,'Per Suburb'!$A:$A,0)),"") | K14: =IFERROR(INDEX('Per Suburb'!F:F,MATCH($H14,'Per Suburb'!$A:$A,0)),"")
C15: =IFERROR(INDEX('Per LGA'!D:D,MATCH($B15,'Per LGA'!$A:$A,0)),"") | D15: =IFERROR(INDEX('Per LGA'!E:E,MATCH($B15,'Per LGA'!$A:$A,0)),"") | E15: =IFERROR(INDEX('Per LGA'!F:F,MATCH($B15,'Per LGA'!$A:$A,0)),"") | F15: =IFERROR(INDEX('Per LGA'!G:G,MATCH($B15,'Per LGA'!$A:$A,0)),"") | I15: =IFERROR(INDEX('Per Suburb'!D:D,MATCH($H15,'Per Suburb'!$A:$A,0)),"") | J15: =IFERROR(INDEX('Per Suburb'!E:E,MATCH($H15,'Per Suburb'!$A:$A,0)),"") | K15: =IFERROR(INDEX('Per Suburb'!F:F,MATCH($H15,'Per Suburb'!$A:$A,0)),"")
C16: =IFERROR(INDEX('Per LGA'!D:D,MATCH($B16,'Per LGA'!$A:$A,0)),"") | D16: =IFERROR(INDEX('Per LGA'!E:E,MATCH($B16,'Per LGA'!$A:$A,0)),"") | E16: =IFERROR(INDEX('Per LGA'!F:F,MATCH($B16,'Per LGA'!$A:$A,0)),"") | F16: =IFERROR(INDEX('Per LGA'!G:G,MATCH($B16,'Per LGA'!$A:$A,0)),"") | I16: =IFERROR(INDEX('Per Suburb'!D:D,MATCH($H16,'Per Suburb'!$A:$A,0)),"") | J16: =IFERROR(INDEX('Per Suburb'!E:E,MATCH($H16,'Per Suburb'!$A:$A,0)),"") | K16: =IFERROR(INDEX('Per Suburb'!F:F,MATCH($H16,'Per Suburb'!$A:$A,0)),"")
C17: =IFERROR(INDEX('Per LGA'!D:D,MATCH($B17,'Per LGA'!$A:$A,0)),"") | D17: =IFERROR(INDEX('Per LGA'!E:E,MATCH($B17,'Per LGA'!$A:$A,0)),"") | E17: =IFERROR(INDEX('Per LGA'!F:F,MATCH($B17,'Per LGA'!$A:$A,0)),"") | F17: =IFERROR(INDEX('Per LGA'!G:G,MATCH($B17,'Per LGA'!$A:$A,0)),"") | I17: =IFERROR(INDEX('Per Suburb'!D:D,MATCH($H17,'Per Suburb'!$A:$A,0)),"") | J17: =IFERROR(INDEX('Per Suburb'!E:E,MATCH($H17,'Per Suburb'!$A:$A,0)),"") | K17: =IFERROR(INDEX('Per Suburb'!F:F,MATCH($H17,'Per Suburb'!$A:$A,0)),"")
C18: =IFERROR(INDEX('Per LGA'!D:D,MATCH($B18,'Per LGA'!$A:$A,0)),"") | D18: =IFERROR(INDEX('Per LGA'!E:E,MATCH($B18,'Per LGA'!$A:$A,0)),"") | E18: =IFERROR(INDEX('Per LGA'!F:F,MATCH($B18,'Per LGA'!$A:$A,0)),"") | F18: =IFERROR(INDEX('Per LGA'!G:G,MATCH($B18,'Per LGA'!$A:$A,0)),"") | I18: =IFERROR(INDEX('Per Suburb'!D:D,MATCH($H18,'Per Suburb'!$A:$A,0)),"") | J18: =IFERROR(INDEX('Per Suburb'!E:E,MATCH($H18,'Per Suburb'!$A:$A,0)),"") | K18: =IFERROR(INDEX('Per Suburb'!F:F,MATCH($H18,'Per Suburb'!$A:$A,0)),"")
... C63: =IFERROR(INDEX('Per LGA'!D:D,MATCH($B63,'Per LGA'!$A:$A,0)),"") | D63: =IFERROR(INDEX('Per LGA'!E:E,MATCH($B63,'Per LGA'!$A:$A,0)),"") | E63: =IFERROR(INDEX('Per LGA'!F:F,MATCH($B63,'Per LGA'!$A:$A,0)),"") | F63: =IFERROR(INDEX('Per LGA'!G:G,MATCH($B63,'Per LGA'!$A:$A,0)),"") | I63: =IFERROR(INDEX('Per Suburb'!D:D,MATCH($H63,'Per Suburb'!$A:$A,0)),"") | J63: =IFERROR(INDEX('Per Suburb'!E:E,MATCH($H63,'Per Suburb'!$A:$A,0)),"") | K63: =IFERROR(INDEX('Per Suburb'!F:F,MATCH($H63,'Per Suburb'!$A:$A,0)),"")

Sheet Per LGA
A1: LGA Name | B1: All Title Count | C1: Title x1000 | D1: LMR+TOD | E1: CDC LRHDC | F1: CDC Pattern | G1: CDC LRHDC+Pattern
A2: Albury | B2: 26644 | C2: =B2/1000 -> 26.644 | D2: N/A | E2: =$C2*Prices!$E$5 -> 796.6556 | F2: =$C2*Prices!$E$6 -> 530.2156 | G2: =$C2*Prices!$E$7 -> 1063.0956
A3: Armidale | B3: 24530 | C3: =B3/1000 -> 24.53 | D3: N/A | E3: =$C3*Prices!$E$5 -> 733.447 | F3: =$C3*Prices!$E$6 -> 488.147 | G3: =$C3*Prices!$E$7 -> 978.747
A4: Ballina | B4: 19162 | C4: =B4/1000 -> 19.162 | D4: N/A | E4: =$C4*Prices!$E$5 -> 572.9438 | F4: =$C4*Prices!$E$6 -> 381.3238 | G4: =$C4*Prices!$E$7 -> 764.5638
A5: Balranald | B5: 3984 | C5: =B5/1000 -> 3.984 | D5: N/A | E5: =$C5*Prices!$E$5 -> 119.1216 | F5: =$C5*Prices!$E$6 -> 79.2816 | G5: =$C5*Prices!$E$7 -> 158.9616
A6: Bathurst | B6: 28712 | C6: =B6/1000 -> 28.712 | D6: N/A | E6: =$C6*Prices!$E$5 -> 858.4888 | F6: =$C6*Prices!$E$6 -> 571.3688 | G6: =$C6*Prices!$E$7 -> 1145.6088
A7: Bayside | B7: 36572 | C7: =B7/1000 -> 36.572 | D7: 149.9 | E7: =$C7*Prices!$E$5 -> 1093.5028 | F7: =$C7*Prices!$E$6 -> 727.7828 | G7: =$C7*Prices!$E$7 -> 1459.2228
A8: Bega Valley | B8: 29923 | C8: =B8/1000 -> 29.923 | D8: N/A | E8: =$C8*Prices!$E$5 -> 894.6977 | F8: =$C8*Prices!$E$6 -> 595.4677 | G8: =$C8*Prices!$E$7 -> 1193.9277
A9: Bellingen | B9: 9435 | C9: =B9/1000 -> 9.435 | D9: N/A | E9: =$C9*Prices!$E$5 -> 282.1065 | F9: =$C9*Prices!$E$6 -> 187.7565 | G9: =$C9*Prices!$E$7 -> 376.4565
A10: Berrigan | B10: 8007 | C10: =B10/1000 -> 8.007 | D10: N/A | E10: =$C10*Prices!$E$5 -> 239.4093 | F10: =$C10*Prices!$E$6 -> 159.3393 | G10: =$C10*Prices!$E$7 -> 319.4793
A11: Blacktown | B11: 137594 | C11: =B11/1000 -> 137.594 | D11: 149.9 | E11: =$C11*Prices!$E$5 -> 4114.0606 | F11: =$C11*Prices!$E$6 -> 2738.1206 | G11: =$C11*Prices!$E$7 -> 5490.0006
A12: Bland | B12: 12021 | C12: =B12/1000 -> 12.021 | D12: N/A | E12: =$C12*Prices!$E$5 -> 359.4279 | F12: =$C12*Prices!$E$6 -> 239.2179 | G12: =$C12*Prices!$E$7 -> 479.6379
A13: Blayney | B13: 10559 | C13: =B13/1000 -> 10.559 | D13: N/A | E13: =$C13*Prices!$E$5 -> 315.7141 | F13: =$C13*Prices!$E$6 -> 210.1241 | G13: =$C13*Prices!$E$7 -> 421.3041
A14: Blue Mountains | B14: 46302 | C14: =B14/1000 -> 46.302 | D14: N/A | E14: =$C14*Prices!$E$5 -> 1384.4298 | F14: =$C14*Prices!$E$6 -> 921.4098 | G14: =$C14*Prices!$E$7 -> 1847.4498
A15: Bogan | B15: 6499 | C15: =B15/1000 -> 6.499 | D15: N/A | E15: =$C15*Prices!$E$5 -> 194.3201 | F15: =$C15*Prices!$E$6 -> 129.3301 | G15: =$C15*Prices!$E$7 -> 259.3101
A16: Bourke | B16: 5252 | C16: =B16/1000 -> 5.252 | D16: N/A | E16: =$C16*Prices!$E$5 -> 157.0348 | F16: =$C16*Prices!$E$6 -> 104.5148 | G16: =$C16*Prices!$E$7 -> 209.5548
A17: Brewarrina | B17: 2634 | C17: =B17/1000 -> 2.634 | D17: N/A | E17: =$C17*Prices!$E$5 -> 78.7566 | F17: =$C17*Prices!$E$6 -> 52.4166 | G17: =$C17*Prices!$E$7 -> 105.0966
A18: Broken Hill | B18: 13579 | C18: =B18/1000 -> 13.579 | D18: N/A | E18: =$C18*Prices!$E$5 -> 406.0121 | F18: =$C18*Prices!$E$6 -> 270.2221 | G18: =$C18*Prices!$E$7 -> 541.8021
A19: Burwood | B19: 8691 | C19: =B19/1000 -> 8.691 | D19: 149.9 | E19: =$C19*Prices!$E$5 -> 259.8609 | F19: =$C19*Prices!$E$6 -> 172.9509 | G19: =$C19*Prices!$E$7 -> 346.7709
A20: Byron | B20: 16669 | C20: =B20/1000 -> 16.669 | D20: N/A | E20: =$C20*Prices!$E$5 -> 498.4031 | F20: =$C20*Prices!$E$6 -> 331.7131 | G20: =$C20*Prices!$E$7 -> 665.0931
A21: Cabonne | B21: 20360 | C21: =B21/1000 -> 20.36 | D21: N/A | E21: =$C21*Prices!$E$5 -> 608.764 | F21: =$C21*Prices!$E$6 -> 405.164 | G21: =$C21*Prices!$E$7 -> 812.364
A22: Camden | B22: 47684 | C22: =B22/1000 -> 47.684 | D22: 149.9 | E22: =$C22*Prices!$E$5 -> 1425.7516 | F22: =$C22*Prices!$E$6 -> 948.9116 | G22: =$C22*Prices!$E$7 -> 1902.5916
A23: Campbelltown | B23: 59569 | C23: =B23/1000 -> 59.569 | D23: 149.9 | E23: =$C23*Prices!$E$5 -> 1781.1131 | F23: =$C23*Prices!$E$6 -> 1185.4231 | G23: =$C23*Prices!$E$7 -> 2376.8031
A24: Canada Bay | B24: 20127 | C24: =B24/1000 -> 20.127 | D24: 149.9 | E24: =$C24*Prices!$E$5 -> 601.7973 | F24: =$C24*Prices!$E$6 -> 400.5273 | G24: =$C24*Prices!$E$7 -> 803.0673
A25: Canterbury-Bankstown | B25: 98950 | C25: =B25/1000 -> 98.95 | D25: 149.9 | E25: =$C25*Prices!$E$5 -> 2958.605 | F25: =$C25*Prices!$E$6 -> 1969.105 | G25: =$C25*Prices!$E$7 -> 3948.105
A26: Carrathool | B26: 10062 | C26: =B26/1000 -> 10.062 | D26: N/A | E26: =$C26*Prices!$E$5 -> 300.8538 | F26: =$C26*Prices!$E$6 -> 200.2338 | G26: =$C26*Prices!$E$7 -> 401.4738
A27: Central Coast | B27: 137481 | C27: =B27/1000 -> 137.481 | D27: 149.9 | E27: =$C27*Prices!$E$5 -> 4110.6819 | F27: =$C27*Prices!$E$6 -> 2735.8719 | G27: =$C27*Prices!$E$7 -> 5485.4919
A28: Central Darling | B28: 4385 | C28: =B28/1000 -> 4.385 | D28: N/A | E28: =$C28*Prices!$E$5 -> 131.1115 | F28: =$C28*Prices!$E$6 -> 87.2615 | G28: =$C28*Prices!$E$7 -> 174.9615
A29: Cessnock | B29: 35146 | C29: =B29/1000 -> 35.146 | D29: 149.9 | E29: =$C29*Prices!$E$5 -> 1050.8654 | F29: =$C29*Prices!$E$6 -> 699.4054 | G29: =$C29*Prices!$E$7 -> 1402.3254
A30: Clarence Valley | B30: 41463 | C30: =B30/1000 -> 41.463 | D30: N/A | E30: =$C30*Prices!$E$5 -> 1239.7437 | F30: =$C30*Prices!$E$6 -> 825.1137 | G30: =$C30*Prices!$E$7 -> 1654.3737
A31: Cobar | B31: 7115 | C31: =B31/1000 -> 7.115 | D31: N/A | E31: =$C31*Prices!$E$5 -> 212.7385 | F31: =$C31*Prices!$E$6 -> 141.5885 | G31: =$C31*Prices!$E$7 -> 283.8885
A32: Coffs Harbour | B32: 32820 | C32: =B32/1000 -> 32.82 | D32: N/A | E32: =$C32*Prices!$E$5 -> 981.318 | F32: =$C32*Prices!$E$6 -> 653.118 | G32: =$C32*Prices!$E$7 -> 1309.518
A33: Coolamon | B33: 6575 | C33: =B33/1000 -> 6.575 | D33: N/A | E33: =$C33*Prices!$E$5 -> 196.5925 | F33: =$C33*Prices!$E$6 -> 130.8425 | G33: =$C33*Prices!$E$7 -> 262.3425
A34: Coonamble | B34: 9723 | C34: =B34/1000 -> 9.723 | D34: N/A | E34: =$C34*Prices!$E$5 -> 290.7177 | F34: =$C34*Prices!$E$6 -> 193.4877 | G34: =$C34*Prices!$E$7 -> 387.9477
A35: Cootamundra-Gundagai | B35: 17987 | C35: =B35/1000 -> 17.987 | D35: N/A | E35: =$C35*Prices!$E$5 -> 537.8113 | F35: =$C35*Prices!$E$6 -> 357.9413 | G35: =$C35*Prices!$E$7 -> 717.6813
A36: Cowra | B36: 13915 | C36: =B36/1000 -> 13.915 | D36: N/A | E36: =$C36*Prices!$E$5 -> 416.0585 | F36: =$C36*Prices!$E$6 -> 276.9085 | G36: =$C36*Prices!$E$7 -> 555.2085
A37: Cumberland | B37: 58281 | C37: =B37/1000 -> 58.281 | D37: 149.9 | E37: =$C37*Prices!$E$5 -> 1742.6019 | F37: =$C37*Prices!$E$6 -> 1159.7919 | G37: =$C37*Prices!$E$7 -> 2325.4119
A38: Dubbo | B38: 37684 | C38: =B38/1000 -> 37.684 | D38: N/A | E38: =$C38*Prices!$E$5 -> 1126.7516 | F38: =$C38*Prices!$E$6 -> 749.9116 | G38: =$C38*Prices!$E$7 -> 1503.5916
A39: Dungog | B39: 9656 | C39: =B39/1000 -> 9.656 | D39: N/A | E39: =$C39*Prices!$E$5 -> 288.7144 | F39: =$C39*Prices!$E$6 -> 192.1544 | G39: =$C39*Prices!$E$7 -> 385.2744
A40: Edward River | B40: 14669 | C40: =B40/1000 -> 14.669 | D40: N/A | E40: =$C40*Prices!$E$5 -> 438.6031 | F40: =$C40*Prices!$E$6 -> 291.9131 | G40: =$C40*Prices!$E$7 -> 585.2931
A41: Eurobodalla | B41: 29899 | C41: =B41/1000 -> 29.899 | D41: N/A | E41: =$C41*Prices!$E$5 -> 893.9801 | F41: =$C41*Prices!$E$6 -> 594.9901 | G41: =$C41*Prices!$E$7 -> 1192.9701
A42: Fairfield | B42: 62691 | C42: =B42/1000 -> 62.691 | D42: 149.9 | E42: =$C42*Prices!$E$5 -> 1874.4609 | F42: =$C42*Prices!$E$6 -> 1247.5509 | G42: =$C42*Prices!$E$7 -> 2501.3709
A43: Federation | B43: 17074 | C43: =B43/1000 -> 17.074 | D43: N/A | E43: =$C43*Prices!$E$5 -> 510.5126 | F43: =$C43*Prices!$E$6 -> 339.7726 | G43: =$C43*Prices!$E$7 -> 681.2526
A44: Forbes | B44: 12134 | C44: =B44/1000 -> 12.134 | D44: N/A | E44: =$C44*Prices!$E$5 -> 362.8066 | F44: =$C44*Prices!$E$6 -> 241.4666 | G44: =$C44*Prices!$E$7 -> 484.1466
A45: Georges River | B45: 39701 | C45: =B45/1000 -> 39.701 | D45: 149.9 | E45: =$C45*Prices!$E$5 -> 1187.0599 | F45: =$C45*Prices!$E$6 -> 790.0499 | G45: =$C45*Prices!$E$7 -> 1584.0699
A46: Gilgandra | B46: 6130 | C46: =B46/1000 -> 6.13 | D46: N/A | E46: =$C46*Prices!$E$5 -> 183.287 | F46: =$C46*Prices!$E$6 -> 121.987 | G46: =$C46*Prices!$E$7 -> 244.587
A47: Glen Innes Severn | B47: 13702 | C47: =B47/1000 -> 13.702 | D47: N/A | E47: =$C47*Prices!$E$5 -> 409.6898 | F47: =$C47*Prices!$E$6 -> 272.6698 | G47: =$C47*Prices!$E$7 -> 546.7098
A48: Goulburn Mulwaree | B48: 23536 | C48: =B48/1000 -> 23.536 | D48: N/A | E48: =$C48*Prices!$E$5 -> 703.7264 | F48: =$C48*Prices!$E$6 -> 468.3664 | G48: =$C48*Prices!$E$7 -> 939.0864
A49: Greater Hume | B49: 17813 | C49: =B49/1000 -> 17.813 | D49: N/A | E49: =$C49*Prices!$E$5 -> 532.6087 | F49: =$C49*Prices!$E$6 -> 354.4787 | G49: =$C49*Prices!$E$7 -> 710.7387
A50: Griffith | B50: 14599 | C50: =B50/1000 -> 14.599 | D50: N/A | E50: =$C50*Prices!$E$5 -> 436.5101 | F50: =$C50*Prices!$E$6 -> 290.5201 | G50: =$C50*Prices!$E$7 -> 582.5001
A51: Gunnedah | B51: 12772 | C51: =B51/1000 -> 12.772 | D51: N/A | E51: =$C51*Prices!$E$5 -> 381.8828 | F51: =$C51*Prices!$E$6 -> 254.1628 | G51: =$C51*Prices!$E$7 -> 509.6028
A52: Gwydir | B52: 11375 | C52: =B52/1000 -> 11.375 | D52: N/A | E52: =$C52*Prices!$E$5 -> 340.1125 | F52: =$C52*Prices!$E$6 -> 226.3625 | G52: =$C52*Prices!$E$7 -> 453.8625
A53: Hawkesbury | B53: 29090 | C53: =B53/1000 -> 29.09 | D53: N/A | E53: =$C53*Prices!$E$5 -> 869.791 | F53: =$C53*Prices!$E$6 -> 578.891 | G53: =$C53*Prices!$E$7 -> 1160.691
A54: Hay | B54: 8119 | C54: =B54/1000 -> 8.119 | D54: N/A | E54: =$C54*Prices!$E$5 -> 242.7581 | F54: =$C54*Prices!$E$6 -> 161.5681 | G54: =$C54*Prices!$E$7 -> 323.9481
A55: Hilltops | B55: 30772 | C55: =B55/1000 -> 30.772 | D55: N/A | E55: =$C55*Prices!$E$5 -> 920.0828 | F55: =$C55*Prices!$E$6 -> 612.3628 | G55: =$C55*Prices!$E$7 -> 1227.8028
A56: Hornsby | B56: 43686 | C56: =B56/1000 -> 43.686 | D56: 149.9 | E56: =$C56*Prices!$E$5 -> 1306.2114 | F56: =$C56*Prices!$E$6 -> 869.3514 | G56: =$C56*Prices!$E$7 -> 1743.0714
A57: Hunters Hill | B57: 4171 | C57: =B57/1000 -> 4.171 | D57: 149.9 | E57: =$C57*Prices!$E$5 -> 124.7129 | F57: =$C57*Prices!$E$6 -> 83.0029 | G57: =$C57*Prices!$E$7 -> 166.4229
A58: Inner West | B58: 59334 | C58: =B58/1000 -> 59.334 | D58: 149.9 | E58: =$C58*Prices!$E$5 -> 1774.0866 | F58: =$C58*Prices!$E$6 -> 1180.7466 | G58: =$C58*Prices!$E$7 -> 2367.4266
A59: Inverell | B59: 20186 | C59: =B59/1000 -> 20.186 | D59: N/A | E59: =$C59*Prices!$E$5 -> 603.5614 | F59: =$C59*Prices!$E$6 -> 401.7014 | G59: =$C59*Prices!$E$7 -> 805.4214
A60: Junee | B60: 8271 | C60: =B60/1000 -> 8.271 | D60: N/A | E60: =$C60*Prices!$E$5 -> 247.3029 | F60: =$C60*Prices!$E$6 -> 164.5929 | G60: =$C60*Prices!$E$7 -> 330.0129
A61: Kempsey | B61: 21934 | C61: =B61/1000 -> 21.934 | D61: N/A | E61: =$C61*Prices!$E$5 -> 655.8266 | F61: =$C61*Prices!$E$6 -> 436.4866 | G61: =$C61*Prices!$E$7 -> 875.1666
A62: Kiama | B62: 10691 | C62: =B62/1000 -> 10.691 | D62: 149.9 | E62: =$C62*Prices!$E$5 -> 319.6609 | F62: =$C62*Prices!$E$6 -> 212.7509 | G62: =$C62*Prices!$E$7 -> 426.5709
A63: Ku-ring-gai | B63: 36638 | C63: =B63/1000 -> 36.638 | D63: 149.9 | E63: =$C63*Prices!$E$5 -> 1095.4762 | F63: =$C63*Prices!$E$6 -> 729.0962 | G63: =$C63*Prices!$E$7 -> 1461.8562
A64: Kyogle | B64: 9596 | C64: =B64/1000 -> 9.596 | D64: N/A | E64: =$C64*Prices!$E$5 -> 286.9204 | F64: =$C64*Prices!$E$6 -> 190.9604 | G64: =$C64*Prices!$E$7 -> 382.8804
A65: Lachlan | B65: 12285 | C65: =B65/1000 -> 12.285 | D65: N/A | E65: =$C65*Prices!$E$5 -> 367.3215 | F65: =$C65*Prices!$E$6 -> 244.4715 | G65: =$C65*Prices!$E$7 -> 490.1715
A66: Lake Macquarie | B66: 94947 | C66: =B66/1000 -> 94.947 | D66: 149.9 | E66: =$C66*Prices!$E$5 -> 2838.9153 | F66: =$C66*Prices!$E$6 -> 1889.4453 | G66: =$C66*Prices!$E$7 -> 3788.3853
A67: Lane Cove | B67: 8683 | C67: =B67/1000 -> 8.683 | D67: 149.9 | E67: =$C67*Prices!$E$5 -> 259.6217 | F67: =$C67*Prices!$E$6 -> 172.7917 | G67: =$C67*Prices!$E$7 -> 346.4517
A68: Leeton | B68: 8346 | C68: =B68/1000 -> 8.346 | D68: N/A | E68: =$C68*Prices!$E$5 -> 249.5454 | F68: =$C68*Prices!$E$6 -> 166.0854 | G68: =$C68*Prices!$E$7 -> 333.0054
A69: Lismore | B69: 24014 | C69: =B69/1000 -> 24.014 | D69: N/A | E69: =$C69*Prices!$E$5 -> 718.0186 | F69: =$C69*Prices!$E$6 -> 477.8786 | G69: =$C69*Prices!$E$7 -> 958.1586
A70: Lithgow | B70: 19696 | C70: =B70/1000 -> 19.696 | D70: N/A | E70: =$C70*Prices!$E$5 -> 588.9104 | F70: =$C70*Prices!$E$6 -> 391.9504 | G70: =$C70*Prices!$E$7 -> 785.8704
A71: Liverpool | B71: 70426 | C71: =B71/1000 -> 70.426 | D71: 149.9 | E71: =$C71*Prices!$E$5 -> 2105.7374 | F71: =$C71*Prices!$E$6 -> 1401.4774 | G71: =$C71*Prices!$E$7 -> 2809.9974
A72: Liverpool Plains | B72: 12610 | C72: =B72/1000 -> 12.61 | D72: N/A | E72: =$C72*Prices!$E$5 -> 377.039 | F72: =$C72*Prices!$E$6 -> 250.939 | G72: =$C72*Prices!$E$7 -> 503.139
A73: Lockhart | B73: 6573 | C73: =B73/1000 -> 6.573 | D73: N/A | E73: =$C73*Prices!$E$5 -> 196.5327 | F73: =$C73*Prices!$E$6 -> 130.8027 | G73: =$C73*Prices!$E$7 -> 262.2627
A74: Maitland | B74: 42122 | C74: =B74/1000 -> 42.122 | D74: 149.9 | E74: =$C74*Prices!$E$5 -> 1259.4478 | F74: =$C74*Prices!$E$6 -> 838.2278 | G74: =$C74*Prices!$E$7 -> 1680.6678
A75: Mid-Coast | B75: 69651 | C75: =B75/1000 -> 69.651 | D75: N/A | E75: =$C75*Prices!$E$5 -> 2082.5649 | F75: =$C75*Prices!$E$6 -> 1386.0549 | G75: =$C75*Prices!$E$7 -> 2779.0749
A76: Mid-Western | B76: 30818 | C76: =B76/1000 -> 30.818 | D76: N/A | E76: =$C76*Prices!$E$5 -> 921.4582 | F76: =$C76*Prices!$E$6 -> 613.2782 | G76: =$C76*Prices!$E$7 -> 1229.6382
A77: Moree Plains | B77: 16986 | C77: =B77/1000 -> 16.986 | D77: N/A | E77: =$C77*Prices!$E$5 -> 507.8814 | F77: =$C77*Prices!$E$6 -> 338.0214 | G77: =$C77*Prices!$E$7 -> 677.7414
A78: Mosman | B78: 7865 | C78: =B78/1000 -> 7.865 | D78: 149.9 | E78: =$C78*Prices!$E$5 -> 235.1635 | F78: =$C78*Prices!$E$6 -> 156.5135 | G78: =$C78*Prices!$E$7 -> 313.8135
A79: Murray River | B79: 18513 | C79: =B79/1000 -> 18.513 | D79: N/A | E79: =$C79*Prices!$E$5 -> 553.5387 | F79: =$C79*Prices!$E$6 -> 368.4087 | G79: =$C79*Prices!$E$7 -> 738.6687
A80: Murrumbidgee | B80: 8444 | C80: =B80/1000 -> 8.444 | D80: N/A | E80: =$C80*Prices!$E$5 -> 252.4756 | F80: =$C80*Prices!$E$6 -> 168.0356 | G80: =$C80*Prices!$E$7 -> 336.9156
A81: Muswellbrook | B81: 13081 | C81: =B81/1000 -> 13.081 | D81: N/A | E81: =$C81*Prices!$E$5 -> 391.1219 | F81: =$C81*Prices!$E$6 -> 260.3119 | G81: =$C81*Prices!$E$7 -> 521.9319
A82: Nambucca | B82: 13137 | C82: =B82/1000 -> 13.137 | D82: N/A | E82: =$C82*Prices!$E$5 -> 392.7963 | F82: =$C82*Prices!$E$6 -> 261.4263 | G82: =$C82*Prices!$E$7 -> 524.1663
A83: Narrabri | B83: 15549 | C83: =B83/1000 -> 15.549 | D83: N/A | E83: =$C83*Prices!$E$5 -> 464.9151 | F83: =$C83*Prices!$E$6 -> 309.4251 | G83: =$C83*Prices!$E$7 -> 620.4051
A84: Narrandera | B84: 8747 | C84: =B84/1000 -> 8.747 | D84: N/A | E84: =$C84*Prices!$E$5 -> 261.5353 | F84: =$C84*Prices!$E$6 -> 174.0653 | G84: =$C84*Prices!$E$7 -> 349.0053
A85: Narromine | B85: 7145 | C85: =B85/1000 -> 7.145 | D85: N/A | E85: =$C85*Prices!$E$5 -> 213.6355 | F85: =$C85*Prices!$E$6 -> 142.1855 | G85: =$C85*Prices!$E$7 -> 285.0855
A86: Newcastle | B86: 64795 | C86: =B86/1000 -> 64.795 | D86: 149.9 | E86: =$C86*Prices!$E$5 -> 1937.3705 | F86: =$C86*Prices!$E$6 -> 1289.4205 | G86: =$C86*Prices!$E$7 -> 2585.3205
A87: North Sydney | B87: 11664 | C87: =B87/1000 -> 11.664 | D87: 149.9 | E87: =$C87*Prices!$E$5 -> 348.7536 | F87: =$C87*Prices!$E$6 -> 232.1136 | G87: =$C87*Prices!$E$7 -> 465.3936
A88: Northern Beaches | B88: 74040 | C88: =B88/1000 -> 74.04 | D88: 149.9 | E88: =$C88*Prices!$E$5 -> 2213.796 | F88: =$C88*Prices!$E$6 -> 1473.396 | G88: =$C88*Prices!$E$7 -> 2954.196
A89: NULL | B89: 1902 | C89: =B89/1000 -> 1.902 | D89: N/A | E89: =$C89*Prices!$E$5 -> 56.8698 | F89: =$C89*Prices!$E$6 -> 37.8498 | G89: =$C89*Prices!$E$7 -> 75.8898
A90: Oberon | B90: 9125 | C90: =B90/1000 -> 9.125 | D90: N/A | E90: =$C90*Prices!$E$5 -> 272.8375 | F90: =$C90*Prices!$E$6 -> 181.5875 | G90: =$C90*Prices!$E$7 -> 364.0875
A91: Orange | B91: 21306 | C91: =B91/1000 -> 21.306 | D91: N/A | E91: =$C91*Prices!$E$5 -> 637.0494 | F91: =$C91*Prices!$E$6 -> 423.9894 | G91: =$C91*Prices!$E$7 -> 850.1094
A92: Parkes | B92: 14890 | C92: =B92/1000 -> 14.89 | D92: N/A | E92: =$C92*Prices!$E$5 -> 445.211 | F92: =$C92*Prices!$E$6 -> 296.311 | G92: =$C92*Prices!$E$7 -> 594.111
A93: Parramatta | B93: 52553 | C93: =B93/1000 -> 52.553 | D93: 149.9 | E93: =$C93*Prices!$E$5 -> 1571.3347 | F93: =$C93*Prices!$E$6 -> 1045.8047 | G93: =$C93*Prices!$E$7 -> 2096.8647
A94: Penrith | B94: 70802 | C94: =B94/1000 -> 70.802 | D94: 149.9 | E94: =$C94*Prices!$E$5 -> 2116.9798 | F94: =$C94*Prices!$E$6 -> 1408.9598 | G94: =$C94*Prices!$E$7 -> 2824.9998
A95: Port Macquarie-Hastings | B95: 40880 | C95: =B95/1000 -> 40.88 | D95: N/A | E95: =$C95*Prices!$E$5 -> 1222.312 | F95: =$C95*Prices!$E$6 -> 813.512 | G95: =$C95*Prices!$E$7 -> 1631.112
A96: Port Stephens | B96: 35415 | C96: =B96/1000 -> 35.415 | D96: 149.9 | E96: =$C96*Prices!$E$5 -> 1058.9085 | F96: =$C96*Prices!$E$6 -> 704.7585 | G96: =$C96*Prices!$E$7 -> 1413.0585
A97: Queanbeyan-Palerang | B97: 38736 | C97: =B97/1000 -> 38.736 | D97: N/A | E97: =$C97*Prices!$E$5 -> 1158.2064 | F97: =$C97*Prices!$E$6 -> 770.8464 | G97: =$C97*Prices!$E$7 -> 1545.5664
A98: Randwick | B98: 27854 | C98: =B98/1000 -> 27.854 | D98: 149.9 | E98: =$C98*Prices!$E$5 -> 832.8346 | F98: =$C98*Prices!$E$6 -> 554.2946 | G98: =$C98*Prices!$E$7 -> 1111.3746
A99: Richmond Valley | B99: 16630 | C99: =B99/1000 -> 16.63 | D99: N/A | E99: =$C99*Prices!$E$5 -> 497.237 | F99: =$C99*Prices!$E$6 -> 330.937 | G99: =$C99*Prices!$E$7 -> 663.537
A100: Ryde | B100: 28625 | C100: =B100/1000 -> 28.625 | D100: 149.9 | E100: =$C100*Prices!$E$5 -> 855.8875 | F100: =$C100*Prices!$E$6 -> 569.6375 | G100: =$C100*Prices!$E$7 -> 1142.1375
...

Sheet Per Suburb
A1: Suburb Name | B1: All Title Count | C1: Title x1000 | D1: CDC LRHDC | E1: CDC Pattern | F1: CDC LRHDC+Pattern
A2: Aarons Pass | B2: 176 | C2: =B2/1000 -> 0.176 | D2: =$C2*Prices!$E$5 -> 5.2624 | E2: =$C2*Prices!$E$6 -> 3.5024 | F2: =$C2*Prices!$E$7 -> 7.0224
A3: Abbotsbury | B3: 1345 | C3: =B3/1000 -> 1.345 | D3: =$C3*Prices!$E$5 -> 40.2155 | E3: =$C3*Prices!$E$6 -> 26.7655 | F3: =$C3*Prices!$E$7 -> 53.6655
A4: Abbotsford | B4: 1184 | C4: =B4/1000 -> 1.184 | D4: =$C4*Prices!$E$5 -> 35.4016 | E4: =$C4*Prices!$E$6 -> 23.5616 | F4: =$C4*Prices!$E$7 -> 47.2416
A5: Abercrombie | B5: 492 | C5: =B5/1000 -> 0.492 | D5: =$C5*Prices!$E$5 -> 14.7108 | E5: =$C5*Prices!$E$6 -> 9.7908 | F5: =$C5*Prices!$E$7 -> 19.6308
A6: Abercrombie River | B6: 143 | C6: =B6/1000 -> 0.143 | D6: =$C6*Prices!$E$5 -> 4.2757 | E6: =$C6*Prices!$E$6 -> 2.8457 | F6: =$C6*Prices!$E$7 -> 5.7057
A7: Aberdare | B7: 1023 | C7: =B7/1000 -> 1.023 | D7: =$C7*Prices!$E$5 -> 30.5877 | E7: =$C7*Prices!$E$6 -> 20.3577 | F7: =$C7*Prices!$E$7 -> 40.8177
A8: Aberdeen | B8: 1221 | C8: =B8/1000 -> 1.221 | D8: =$C8*Prices!$E$5 -> 36.5079 | E8: =$C8*Prices!$E$6 -> 24.2979 | F8: =$C8*Prices!$E$7 -> 48.7179
A9: Aberfoyle | B9: 385 | C9: =B9/1000 -> 0.385 | D9: =$C9*Prices!$E$5 -> 11.5115 | E9: =$C9*Prices!$E$6 -> 7.6615 | F9: =$C9*Prices!$E$7 -> 15.3615
A10: Aberglasslyn | B10: 2318 | C10: =B10/1000 -> 2.318 | D10: =$C10*Prices!$E$5 -> 69.3082 | E10: =$C10*Prices!$E$6 -> 46.1282 | F10: =$C10*Prices!$E$7 -> 92.4882
A11: Abermain | B11: 1246 | C11: =B11/1000 -> 1.246 | D11: =$C11*Prices!$E$5 -> 37.2554 | E11: =$C11*Prices!$E$6 -> 24.7954 | F11: =$C11*Prices!$E$7 -> 49.7154
A12: Abernethy | B12: 202 | C12: =B12/1000 -> 0.202 | D12: =$C12*Prices!$E$5 -> 6.0398 | E12: =$C12*Prices!$E$6 -> 4.0198 | F12: =$C12*Prices!$E$7 -> 8.0598
A13: Abington | B13: 253 | C13: =B13/1000 -> 0.253 | D13: =$C13*Prices!$E$5 -> 7.5647 | E13: =$C13*Prices!$E$6 -> 5.0347 | F13: =$C13*Prices!$E$7 -> 10.0947
... A4471: Zetland | B4471: 528 | C4471: =B4471/1000 -> 0.528 | D4471: =$C4471*Prices!$E$5 -> 15.7872 | E4471: =$C4471*Prices!$E$6 -> 10.5072 | F4471: =$C4471*Prices!$E$7 -> 21.0672
