Workbook

Sheet Prices
B2: Dataset | C2: Geo Scope | D2: per LGA | E2: per Title x1000 | F2: Entire Dataset
B3: Low and Mid Rise + Transport Oriented Development | C3: Within LMR+TOD areas | D3: 149.9 | F3: 1499
B4: LMR + TOD + CDC Eligilility | C4: Within LMR+TOD areas | D4: 399.9 | F4: 3999
B5: CDC Eligibility for Low Rise Housing Diversity Code | C5: Statewide (R1, R2, R3, R4, RU5) | E5: 29.9 | F5: 19990
B6: CDC Eligibility for Pattern Book Code | C6: Statewide (R1, R2, R3) | E6: 19.9 | F6: 14990
B7: CDC Eligibility for LRHDC + Pattern Book | C7: Statewide (R1, R2, R3, R4, RU5) | E7: 39.9 | F7: 29990
B10: All prices are exGST.
B11: Prices current as at 2025-09-01.

Sheet Calculator
C2: LMR+TOD | D2: CDC LRHDC | E2: CDC Pattern | F2: CDC LRHDC+Pattern | H2: INSTRUCTIONS:
B3: Order Total (exGST) | C3: =MIN(SUM(H7:H102)+SUM(C7:C102),Prices!F3) -> 0 | D3: =MIN(SUM(I7:I102)+SUM(D7:D102),Prices!F5) -> 0 | E3: =MIN(SUM(J7:J102)+SUM(E7:E102),Prices!F6) -> 0 | F3: =MIN(SUM(K7:K102)+SUM(F7:F102),Prices!F7) -> 0 | H3: Enter any combination of LGAs and/or suburbs to see the total price. In the yellow cells, type or choose from the dropdown list.
H4: Do not edit any cells other than yellow.
B6: LGA Name | C6: LMR+TOD | D6: CDC LRHDC | E6: CDC Pattern | F6: CDC LRHDC+Pattern | H6: Suburb Name | I6: CDC LRHDC | J6: CDC Pattern | K6: CDC LRHDC+Pattern
C7: =IFERROR(INDEX('Per LGA'!D:D,MATCH($B7,'Per LGA'!$A:$A,0)),"") | D7: =IFERROR(INDEX('Per LGA'!E:E,MATCH($B7,'Per LGA'!$A:$A,0)),"") | E7: =IFERROR(INDEX('Per LGA'!F:F,MATCH($B7,'Per LGA'!$A:$A,0)),"") | F7: =IFERROR(INDEX('Per LGA'!G:G,MATCH($B7,'Per LGA'!$A:$A,0)),"") | I7: =IFERROR(INDEX('Per Suburb'!D:D,MATCH($H7,'Per Suburb'!$A:$A,0)),"") | J7: =IFERROR(INDEX('Per Suburb'!E:E,MATCH($H7,'Per Suburb'!$A:$A,0)),"") | K7: =IFERROR(INDEX('Per Suburb'!F:F,MATCH($H7,'Per Suburb'!$A:$A,0)),"")
C8: =IFERROR(INDEX('Per LGA'!D:D,MATCH($B8,'Per LGA'!$A:$A,0)),"") | D8: =IFERROR(INDEX('Per LGA'!E:E,MATCH($B8,'Per LGA'!$A:$A,0)),"") | E8: =IFERROR(INDEX('Per LGA'!F:F,MATCH($B8,'Per LGA'!$A:$A,0)),"") | F8: =IFERROR(INDEX('Per LGA'!G:G,MATCH($B8,'Per LGA'!$A:$A,0)),"") | I8: =IFERROR(INDEX('Per Suburb'!D:D,MATCH($H8,'Per Suburb'!$A:$A,0)),"") | J8: =IFERROR(INDEX('Per Suburb'!E:E,MATCH($H8,'Per Suburb'!$A:$A,0)),"") | K8: =IFERROR(INDEX('Per Suburb'!F:F,MATCH($H8,'Per Suburb'!$A:$A,0)),"")
C9: =IFERROR(INDEX('Per LGA'!D:D,MATCH($B9,'Per LGA'!$A:$A,0)),"") | D9: =IFERROR(INDEX('Per LGA'!E:E,MATCH($B9,'Per LGA'!$A:$A,0)),"") | E9: =IFERROR(INDEX('Per LGA'!F:F,MATCH($B9,'Per LGA'!$A:$A,0)),"") | F9: =IFERROR(INDEX('Per LGA'!G:G,MATCH($B9,'Per LGA'!$A:$A,0)),"") | I9: =IFERROR(INDEX('Per Suburb'!D:D,MATCH($H9,'Per Suburb'!$A:$A,0)),"") | J9: =IFERROR(INDEX('Per Suburb'!E:E,MATCH($H9,'Per Suburb'!$A:$A,0)),"") | K9: =IFERROR(INDEX('Per Suburb'!F:F,MATCH($H9,'Per Suburb'!$A:$A,0)),"")
C10: =IFERROR(INDEX('Per LGA'!D:D,MATCH($B10,'Per LGA'!$A:$A,0)),"") | D10: =IFERROR(INDEX('Per LGA'!E:E,MATCH($B10,'Per LGA'!$A:$A,0)),"") | E10: =IFERROR(INDEX('Per LGA'!F:F,MATCH($B10,'Per LGA'!$A:$A,0)),"") | F10: =IFERROR(INDEX('Per LGA'!G:G,MATCH($B10,'Per LGA'!$A:$A,0)),"") | I10: =IFERROR(INDEX('Per Suburb'!D:D,MATCH($H10,'Per Suburb'!$A:$A,0)),"") | J10: =IFERROR(INDEX('Per Suburb'!E:E,MATCH($H10,'Per Suburb'!$A:$A,0)),"") | K10: =IFERROR(INDEX('Per Suburb'!F:F,MATCH($H10,'Per Suburb'!$A:$A,0)),"")
C11: =IFERROR(INDEX('Per LGA'!D:D,MATCH($B11,'Per LGA'!$A:$A,0)),"") | D11: =IFERROR(INDEX('Per LGA'!E:E,MATCH($B11,'Per LGA'!$A:$A,0)),"") | E11: =IFERROR(INDEX('Per LGA'!F:F,MATCH($B11,'Per LGA'!$A:$A,0)),"") | F11: =IFERROR(INDEX('Per LGA'!G:G,MATCH($B11,'Per LGA'!$A:$A,0)),"") | I11: =IFERROR(INDEX('Per Suburb'!D:D,MATCH($H11,'Per Suburb'!$A:$A,0)),"") | J11: =IFERROR(INDEX('Per Suburb'!E:E,MATCH($H11,'Per Suburb'!$A:$A,0)),"") | K11: =IFERROR(INDEX('Per Suburb'!F:F,MATCH($H11,'Per Suburb'!$A:$A,0)),"")
C12: =IFERROR(INDEX('Per LGA'!D:D,MATCH($B12,'Per LGA'!$A:$A,0)),"") | D12: =IFERROR(INDEX('Per LGA'!E:E,MATCH($B12,'Per LGA'!$A:$A,0)),"") | E12: =IFERROR(INDEX('Per LGA'!F:F,MATCH($B12,'Per LGA'!$A:$A,0)),"") | F12: =IFERROR(INDEX('Per LGA'!G:G,MATCH($B12,'Per LGA'!$A:$A,0)),"") | I12: =IFERROR(INDEX('Per Suburb'!D:D,MATCH($H12,'Per Suburb'!$A:$A,0)),"") | J12: =IFERROR(INDEX('Per Suburb'!E:E,MATCH($H12,'Per Suburb'!$A:$A,0)),"") | K12: =IFERROR(INDEX('Per Suburb'!F:F,MATCH($H12,'Per Suburb'!$A:$A,0)),"")
C13: =IFERROR(INDEX('Per LGA'!D:D,MATCH($B13,'Per LGA'!$A:$A,0)),"") | D13: =IFERROR(INDEX('Per LGA'!E:E,MATCH($B13,'Per LGA'!$A:$A,0)),"") | E13: =IFERROR(INDEX('Per LGA'!F:F,MATCH($B13,'Per LGA'!$A:$A,0)),"") | F13: =IFERROR(INDEX('Per LGA'!G:G,MATCH($B13,'Per LGA'!$A:$A,0)),"") | I13: =IFERROR(INDEX('Per Suburb'!D:D,MATCH($H13,'Per Suburb'!$A:$A,0)),"") | J13: =IFERROR(INDEX('Per Suburb'!E:E,MATCH($H13,'Per Suburb'!$A:$A,0)),"") | K13: =IFERROR(INDEX('Per Suburb'!F:F,MATCH($H13,'Per Suburb'!$A:$A,0)),"")
C14: =IFERROR(INDEX('Per LGA'!D:D,MATCH($B14,'Per LGA'!$A:$A,0)),"") | D14: =IFERROR(INDEX('Per LGA'!E:E,MATCH($B14,'Per LGA'!$A:$A,0)),"") | E14: =IFERROR(INDEX('Per LGA'!F:F,MATCH($B14,'Per LGA'!$A:$A,0)),"") | F14: =IFERROR(INDEX('Per LGA'!G:G,MATCH($B14,'Per LGA'!$A:$A,0)),"") | I14: =IFERROR(INDEX('Per Suburb'!D:D,MATCH($H14,'Per Suburb'!$A:$A,0)),"") | J14: =IFERROR(INDEX('Per Suburb'!E:E,MATCH($H14,'Per Suburb'!$A:$A,0)),"") | K14: =IFERROR(INDEX('Per Suburb'!F:F,MATCH($H14,'Per Suburb'!$A:$A,0)),"")
C15: =IFERROR(INDEX('Per LGA'!D:D,MATCH($B15,'Per LGA'!$A:$A,0)),"") | D15: =IFERROR(INDEX('Per LGA'!E:E,MATCH($B15,'Per LGA'!$A:$A,0)),"") | E15: =IFERROR(INDEX('Per LGA'!F:F,MATCH($B15,'Per LGA'!$A:$A,0)),"") | F15: =IFERROR(INDEX('Per LGA'!G:G,MATCH($B15,'Per LGA'!$A:$A,0)),"") | I15: =IFERROR(INDEX('Per Suburb'!D:D,MATCH($H15,'Per Suburb'!$A:$A,0)),"") | J15: =IFERROR(INDEX('Per Suburb'!E:E,MATCH($H15,'Per Suburb'!$A:$A,0)),"") | K15: =IFERROR(INDEX('Per Suburb'!F:F,MATCH($H15,'Per Suburb'!$A:$A,0)),"")
C16: =IFERROR(INDEX('Per LGA'!D:D,MATCH($B16,'Per LGA'!$A:$A,0)),"") | D16: =IFERROR(INDEX('Per LGA'!E:E,MATCH($B16,'Per LGA'!$A:$A,0)),"") | E16: =IFERROR(INDEX('Per LGA'!F:F,MATCH($B16,'Per LGA'!$A:$A,0)),"") | F16: =IFERROR(INDEX('Per LGA'!G:G,MATCH($B16,'Per LGA'!$A:$A,0)),"") | I16: =IFERROR(INDEX('Per Suburb'!D:D,MATCH($H16,'Per Suburb'!$A:$A,0)),"") | J16: =IFERROR(INDEX('Per Suburb'!E:E,MATCH($H16,'Per Suburb'!$A:$A,0)),"") | K16: =IFERROR(INDEX('Per Suburb'!F:F,MATCH($H16,'Per Suburb'!$A:$A,0)),"")
C17: =IFERROR(INDEX('Per LGA'!D:D,MATCH($B17,'Per LGA'!$A:$A,0)),"") | D17: =IFERROR(INDEX('Per LGA'!E:E,MATCH($B17,'Per LGA'!$A:$A,0)),"") | E17: =IFERROR(INDEX('Per LGA'!F:F,MATCH($B17,'Per LGA'!$A:$A,0)),"") | F17: =IFERROR(INDEX('Per LGA'!G:G,MATCH($B17,'Per LGA'!$A:$A,0)),"") | I17: =IFERROR(INDEX('Per Suburb'!D:D,MATCH($H17,'Per Suburb'!$A:$A,0)),"") | J17: =IFERROR(INDEX('Per Suburb'!E:E,MATCH($H17,'Per Suburb'!$A:$A,0)),"") | K17: =IFERROR(INDEX('Per Suburb'!F:F,MATCH($H17,'Per Suburb'!$A:$A,0)),"")
C18: =IFERROR(INDEX('Per LGA'!D:D,MATCH($B18,'Per LGA'!$A:$A,0)),"") | D18: =IFERROR(INDEX('Per LGA'!E:E,MATCH($B18,'Per LGA'!$A:$A,0)),"") | E18: =IFERROR(INDEX('Per LGA'!F:F,MATCH($B18,'Per LGA'!$A:$A,0)),"") | F18: =IFERROR(INDEX('Per LGA'!G:G,MATCH($B18,'Per LGA'!$A:$A,0)),"") | I18: =IFERROR(INDEX('Per Suburb'!D:D,MATCH($H18,'Per Suburb'!$A:$A,0)),"") | J18: =IFERROR(INDEX('Per Suburb'!E:E,MATCH($H18,'Per Suburb'!$A:$A,0)),"") | K18: =IFERROR(INDEX('Per Suburb'!F:F,MATCH($H18,'Per Suburb'!$A:$A,0)),"")
... C63: =IFERROR(INDEX('Per LGA'!D:D,MATCH($B63,'Per LGA'!$A:$A,0)),"") | D63: =IFERROR(INDEX('Per LGA'!E:E,MATCH($B63,'Per LGA'!$A:$A,0)),"") | E63: =IFERROR(INDEX('Per LGA'!F:F,MATCH($B63,'Per LGA'!$A:$A,0)),"") | F63: =IFERROR(INDEX('Per LGA'!G:G,MATCH($B63,'Per LGA'!$A:$A,0)),"") | I63: =IFERROR(INDEX('Per Suburb'!D:D,MATCH($H63,'Per Suburb'!$A:$A,0)),"") | J63: =IFERROR(INDEX('Per Suburb'!E:E,MATCH($H63,'Per Suburb'!$A:$A,0)),"") | K63: =IFERROR(INDEX('Per Suburb'!F:F,MATCH($H63,'Per Suburb'!$A:$A,0)),"")

Sheet Per LGA
A1: LGA Name | B1: All Title Count | C1: Title x1000 | D1: LMR+TOD | E1: CDC LRHDC | F1: CDC Pattern | G1: CDC LRHDC+Pattern
A2: Albury | B2: 26644 | C2: =B2/1000 -> 26.644 | D2: N/A | E2: =$C2*Prices!$E$5 -> 796.6556 | F2: =$C2*Prices!$E$6 -> 530.2156 | G2: =$C2*Prices!$E$7 -> 1063.0956
A3: Armidale | B3: 24530 | C3: =B3/1000 -> 24.53 | D3: N/A | E3: =$C3*Prices!$E$5 -> 733.447 | F3: =$C3*Prices!$E$6 -> 488.147 | G3: =$C3*Prices!$E$7 -> 978.747
A4: Ballina | B4: 19162 | C4: =B4/1000 -> 19.162 | D4: N/A | E4: =$C4*Prices!$E$5 -> 572.9438 | F4: =$C4*Prices!$E$6 -> 381.3238 | G4: =$C4*Prices!$E$7 -> 764.5638
A5: Balranald | B5: 3984 | C5: =B5/1000 -> 3.984 | D5: N/A | E5: =$C5*Prices!$E$5 -> 119.1216 | F5: =$C5*Prices!$E$6 -> 79.2816 | G5: =$C5*Prices!$E$7 -> 158.9616
A6: Bathurst | B6: 28712 | C6: =B6/1000 -> 28.712 | D6: N/A | E6: =$C6*Prices!$E$5 -> 858.4888 | F6: =$C6*Prices!$E$6 -> 571.3688 | G6: =$C6*Prices!$E$7 -> 1145.6088
A7: Bayside | B7: 36572 | C7: =B7/1000 -> 36.572 | D7: 149.9 | E7: =$C7*Prices!$E$5 -> 1093.5028 | F7: =$C7*Prices!$E$6 -> 727.7828 | G7: =$C7*Prices!$E$7 -> 1459.2228
A8: Bega Valley | B8: 29923 | C8: =B8/1000 -> 29.923 | D8: N/A | E8: =$C8*Prices!$E$5 -> 894.6977 | F8: =$C8*Prices!$E$6 -> 595.4677 | G8: =$C8*Prices!$E$7 -> 1193.9277
A9: Bellingen | B9: 9435 | C9: =B9/1000 -> 9.435 | D9: N/A | E9: =$C9*Prices!$E$5 -> 282.1065 | F9: =$C9*Prices!$E$6 -> 187.7565 | G9: =$C9*Prices!$E$7 -> 376.4565
A10: Berrigan | B10: 8007 | C10: =B10/1000 -> 8.007 | D10: N/A | E10: =$C10*Prices!$E$5 -> 239.4093 | F10: =$C10*Prices!$E$6 -> 159.3393 | G10: =$C10*Prices!$E$7 -> 319.4793
A11: Blacktown | B11: 137594 | C11: =B11/1000 -> 137.594 | D11: 149.9 | E11: =$C11*Prices!$E$5 -> 4114.0606 | F11: =$C11*Prices!$E$6 -> 2738.1206 | G11: =$C11*Prices!$E$7 -> 5490.0006
A12: Bland | B12: 12021 | C12: =B12/1000 -> 12.021 | D12: N/A | E12: =$C12*Prices!$E$5 -> 359.4279 | F12: =$C12*Prices!$E$6 -> 239.2179 | G12: =$C12*Prices!$E$7 -> 479.6379
A13: Blayney | B13: 10559 | C13: =B13/1000 -> 10.559 | D13: N/A | E13: =$C13*Prices!$E$5 -> 315.7141 | F13: =$C13*Prices!$E$6 -> 210.1241 | G13: =$C13*Prices!$E$7 -> 421.3041
A14: Blue Mountains | B14: 46302 | C14: =B14/1000 -> 46.302 | D14: N/A | E14: =$C14*Prices!$E$5 -> 1384.4298 | F14: =$C14*Prices!$E$6 -> 921.4098 | G14: =$C14*Prices!$E$7 -> 1847.4498
A15: Bogan | B15: 6499 | C15: =B15/1000 -> 6.499 | D15: N/A | E15: =$C15*Prices!$E$5 -> 194.3201 | F15: =$C15*Prices!$E$6 -> 129.3301 | G15: =$C15*Prices!$E$7 -> 259.3101
A16: Bourke | B16: 5252 | C16: =B16/1000 -> 5.252 | D16: N/A | E16: =$C16*Prices!$E$5 -> 157.0348 | F16: =$C16*Prices!$E$6 -> 104.5148 | G16: =$C16*Prices!$E$7 -> 209.5548
A17: Brewarrina | B17: 2634 | C17: =B17/1000 -> 2.634 | D17: N/A | E17: =$C17*Prices!$E$5 -> 78.7566 | F17: =$C17*Prices!$E$6 -> 52.4166 | G17: =$C17*Prices!$E$7 -> 105.0966
A18: Broken Hill | B18: 13579 | C18: =B18/1000 -> 13.579 | D18: N/A | E18: =$C18*Prices!$E$5 -> 406.0121 | F18: =$C18*Prices!$E$6 -> 270.2221 | G18: =$C18*Prices!$E$7 -> 541.8021
A19: Burwood | B19: 8691 | C19: =B19/1000 -> 8.691 | D19: 149.9 | E19: =$C19*Prices!$E$5 -> 259.8609 | F19: =$C19*Prices!$E$6 -> 172.9509 | G19: =$C19*Prices!$E$7 -> 346.7709
A20: Byron | B20: 16669 | C20: =B20/1000 -> 16.669 | D20: N/A | E20: =$C20*Prices!$E$5 -> 498.4031 | F20: =$C20*Prices!$E$6 -> 331.7131 | G20: =$C20*Prices!$E$7 -> 665.0931
A21: Cabonne | B21: 20360 | C21: =B21/1000 -> 20.36 | D21: N/A | E21: =$C21*Prices!$E$5 -> 608.764 | F21: =$C21*Prices!$E$6 -> 405.164 | G21: =$C21*Prices!$E$7 -> 812.364
A22: Camden | B22: 47684 | C22: =B22/1000 -> 47.684 | D22: 149.9 | E22: =$C22*Prices!$E$5 -> 1425.7516 | F22: =$C22*Prices!$E$6 -> 948.9116 | G22: =$C22*Prices!$E$7 -> 1902.5916
A23: Campbelltown | B23: 59569 | C23: =B23/1000 -> 59.569 | D23: 149.9 | E23: =$C23*Prices!$E$5 -> 1781.1131 | F23: =$C23*Prices!$E$6 -> 1185.4231 | G23: =$C23*Prices!$E$7 -> 2376.8031
A24: Canada Bay | B24: 20127 | C24: =B24/1000 -> 20.127 | D24: 149.9 | E24: =$C24*Prices!$E$5 -> 601.7973 | F24: =$C24*Prices!$E$6 -> 400.5273 | G24: =$C24*Prices!$E$7 -> 803.0673
A25: Canterbury-Bankstown | B25: 98950 | C25: =B25/1000 -> 98.95 | D25: 149.9 | E25: =$C25*Prices!$E$5 -> 2958.605 | F25: =$C25*Prices!$E$6 -> 1969.105 | G25: =$C25*Prices!$E$7 -> 3948.105
A26: Carrathool | B26: 10062 | C26: =B26/1000 -> 10.062 | D26: N/A | E26: =$C26*Prices!$E$5 -> 300.8538 | F26: =$C26*Prices!$E$6 -> 200.2338 | G26: =$C26*Prices!$E$7 -> 401.4738
A27: Central Coast | B27: 137481 | C27: =B27/1000 -> 137.481 | D27: 149.9 | E27: =$C27*Prices!$E$5 -> 4110.6819 | F27: =$C27*Prices!$E$6 -> 2735.8719 | G27: =$C27*Prices!$E$7 -> 5485.4919
A28: Central Darling | B28: 4385 | C28: =B28/1000 -> 4.385 | D28: N/A | E28: =$C28*Prices!$E$5 -> 131.1115 | F28: =$C28*Prices!$E$6 -> 87.2615 | G28: =$C28*Prices!$E$7 -> 174.9615
A29: Cessnock | B29: 35146 | C29: =B29/1000 -> 35.146 | D29: 149.9 | E29: =$C29*Prices!$E$5 -> 1050.8654 | F29: =$C29*Prices!$E$6 -> 699.4054 | G29: =$C29*Prices!$E$7 -> 1402.3254
A30: Clarence Valley | B30: 41463 | C30: =B30/1000 -> 41.463 | D30: N/A | E30: =$C30*Prices!$E$5 -> 1239.7437 | F30: =$C30*Prices!$E$6 -> 825.1137 | G30: =$C30*Prices!$E$7 -> 1654.3737
A31: Cobar | B31: 7115 | C31: =B31/1000 -> 7.115 | D31: N/A | E31: =$C31*Prices!$E$5 -> 212.7385 | F31: =$C31*Prices!$E$6 -> 141.5885 | G31: =$C31*Prices!$E$7 -> 283.8885
A32: Coffs Harbour | B32: 32820 | C32: =B32/1000 -> 32.82 | D32: N/A | E32: =$C32*Prices!$E$5 -> 981.318 | F32: =$C32*Prices!$E$6 -> 653.118 | G32: =$C32*Prices!$E$7 -> 1309.518
A33: Coolamon | B33: 6575 | C33: =B33/1000 -> 6.575 | D33: N/A | E33: =$C33*Prices!$E$5 -> 196.5925 | F33: =$C33*Prices!$E$6 -> 130.8425 | G33: =$C33*Prices!$E$7 -> 262.3425
A34: Coonamble | B34: 9723 | C34: =B34/1000 -> 9.723 | D34: N/A | E34: =$C34*Prices!$E$5 -> 290.7177 | F34: =$C34*Prices!$E$6 -> 193.4877 | G34: =$C34*Prices!$E$7 -> 387.9477
A35: Cootamundra-Gundagai | B35: 17987 | C35: =B35/1000 -> 17.987 | D35: N/A | E35: =$C35*Prices!$E$5 -> 537.8113 | F35: =$C35*Prices!$E$6 -> 357.9413 | G35: =$C35*Prices!$E$7 -> 717.6813
A36: Cowra | B36: 13915 | C36: =B36/1000 -> 13.915 | D36: N/A | E36: =$C36*Prices!$E$5 -> 416.0585 | F36: =$C36*Prices!$E$6 -> 276.9085 | G36: =$C36*Prices!$E$7 -> 555.2085
A37: Cumberland | B37: 58281 | C37: =B37/1000 -> 58.281 | D37: 149.9 | E37: =$C37*Prices!$E$5 -> 1742.6019 | F37: =$C37*Prices!$E$6 -> 1159.7919 | G37: =$C37*Prices!$E$7 -> 2325.4119
A38: Dubbo | B38: 37684 | C38: =B38/1000 -> 37.684 | D38: N/A | E38: =$C38*Prices!$E$5 -> 1126.7516 | F38: =$C38*Prices!$E$6 -> 749.9116 | G38: =$C38*Prices!$E$7 -> 1503.5916
A39: Dungog | B39: 9656 | C39: =B39/1000 -> 9.656 | D39: N/A | E39: =$C39*Prices!$E$5 -> 288.7144 | F39: =$C39*Prices!$E$6 -> 192.1544 | G39: =$C39*Prices!$E$7 -> 385.2744
A40: Edward River | B40: 14669 | C40: =B40/1000 -> 14.669 | D40: N/A | E40: =$C40*Prices!$E$5 -> 438.6031 | F40: =$C40*Prices!$E$6 -> 291.9131 | G40: =$C40*Prices!$E$7 -> 585.2931
...

Sheet Per Suburb
A1: Suburb Name | B1: All Title Count | C1: Title x1000 | D1: CDC LRHDC | E1: CDC Pattern | F1: CDC LRHDC+Pattern
A2: Aarons Pass | B2: 176 | C2: =B2/1000 -> 0.176 | D2: =$C2*Prices!$E$5 -> 5.2624 | E2: =$C2*Prices!$E$6 -> 3.5024 | F2: =$C2*Prices!$E$7 -> 7.0224
A3: Abbotsbury | B3: 1345 | C3: =B3/1000 -> 1.345 | D3: =$C3*Prices!$E$5 -> 40.2155 | E3: =$C3*Prices!$E$6 -> 26.7655 | F3: =$C3*Prices!$E$7 -> 53.6655
A4: Abbotsford | B4: 1184 | C4: =B4/1000 -> 1.184 | D4: =$C4*Prices!$E$5 -> 35.4016 | E4: =$C4*Prices!$E$6 -> 23.5616 | F4: =$C4*Prices!$E$7 -> 47.2416
A5: Abercrombie | B5: 492 | C5: =B5/1000 -> 0.492 | D5: =$C5*Prices!$E$5 -> 14.7108 | E5: =$C5*Prices!$E$6 -> 9.7908 | F5: =$C5*Prices!$E$7 -> 19.6308
A6: Abercrombie River | B6: 143 | C6: =B6/1000 -> 0.143 | D6: =$C6*Prices!$E$5 -> 4.2757 | E6: =$C6*Prices!$E$6 -> 2.8457 | F6: =$C6*Prices!$E$7 -> 5.7057
A7: Aberdare | B7: 1023 | C7: =B7/1000 -> 1.023 | D7: =$C7*Prices!$E$5 -> 30.5877 | E7: =$C7*Prices!$E$6 -> 20.3577 | F7: =$C7*Prices!$E$7 -> 40.8177
A8: Aberdeen | B8: 1221 | C8: =B8/1000 -> 1.221 | D8: =$C8*Prices!$E$5 -> 36.5079 | E8: =$C8*Prices!$E$6 -> 24.2979 | F8: =$C8*Prices!$E$7 -> 48.7179
A9: Aberfoyle | B9: 385 | C9: =B9/1000 -> 0.385 | D9: =$C9*Prices!$E$5 -> 11.5115 | E9: =$C9*Prices!$E$6 -> 7.6615 | F9: =$C9*Prices!$E$7 -> 15.3615
A10: Aberglasslyn | B10: 2318 | C10: =B10/1000 -> 2.318 | D10: =$C10*Prices!$E$5 -> 69.3082 | E10: =$C10*Prices!$E$6 -> 46.1282 | F10: =$C10*Prices!$E$7 -> 92.4882
A11: Abermain | B11: 1246 | C11: =B11/1000 -> 1.246 | D11: =$C11*Prices!$E$5 -> 37.2554 | E11: =$C11*Prices!$E$6 -> 24.7954 | F11: =$C11*Prices!$E$7 -> 49.7154
A12: Abernethy | B12: 202 | C12: =B12/1000 -> 0.202 | D12: =$C12*Prices!$E$5 -> 6.0398 | E12: =$C12*Prices!$E$6 -> 4.0198 | F12: =$C12*Prices!$E$7 -> 8.0598
A13: Abington | B13: 253 | C13: =B13/1000 -> 0.253 | D13: =$C13*Prices!$E$5 -> 7.5647 | E13: =$C13*Prices!$E$6 -> 5.0347 | F13: =$C13*Prices!$E$7 -> 10.0947
... A4471: Zetland | B4471: 528 | C4471: =B4471/1000 -> 0.528 | D4471: =$C4471*Prices!$E$5 -> 15.7872 | E4471: =$C4471*Prices!$E$6 -> 10.5072 | F4471: =$C4471*Prices!$E$7 -> 21.0672
